BEGIN:VCALENDAR
VERSION:2.0
PRODID:-//Squarespace Inc/Squarespace 6//v6//EN
BEGIN:VEVENT
UID:54feba9ce4b07f58e4148fb9@squarespace.com
DTSTAMP:20150622T105410Z
DTSTART:20150710T080000Z
DTEND:20150710T110000Z
SUMMARY:RUNation Running Film Night
GEO:-33.920353;151.243623
LOCATION:Ritz Cinema\, 43-45 St Pauls St\, Randwick\, NSW\, 2031\, Australi
 a
END:VEVENT
END:VCALENDAR
