BEGIN:VCALENDAR
VERSION:2.0
PRODID:-//Squarespace Inc/Squarespace 6//v6//EN
BEGIN:VEVENT
UID:5587e8fae4b0761641896aae@squarespace.com
DTSTAMP:20160108T065319Z
DTSTART:20160130T023000Z
DTEND:20160213T040000Z
SUMMARY:Self Defence for runners
GEO:-33.801255;151.21389
LOCATION:whitewolfdojo\, \,12 Charles Street\,\, Castlecrag\, Australia
END:VEVENT
END:VCALENDAR
